BEGIN:VCALENDAR
VERSION:2.0
PRODID:-//Nederlands Fell Pony Stamboek - ECPv6.15.20//NONSGML v1.0//EN
CALSCALE:GREGORIAN
METHOD:PUBLISH
X-ORIGINAL-URL:https://www.nfps.nl
X-WR-CALDESC:Evenementen voor Nederlands Fell Pony Stamboek
REFRESH-INTERVAL;VALUE=DURATION:PT1H
X-Robots-Tag:noindex
X-PUBLISHED-TTL:PT1H
BEGIN:VTIMEZONE
TZID:Europe/Amsterdam
BEGIN:DAYLIGHT
TZOFFSETFROM:+0100
TZOFFSETTO:+0200
TZNAME:CEST
DTSTART:20230326T010000
END:DAYLIGHT
BEGIN:STANDARD
TZOFFSETFROM:+0200
TZOFFSETTO:+0100
TZNAME:CET
DTSTART:20231029T010000
END:STANDARD
BEGIN:DAYLIGHT
TZOFFSETFROM:+0100
TZOFFSETTO:+0200
TZNAME:CEST
DTSTART:20240331T010000
END:DAYLIGHT
BEGIN:STANDARD
TZOFFSETFROM:+0200
TZOFFSETTO:+0100
TZNAME:CET
DTSTART:20241027T010000
END:STANDARD
BEGIN:DAYLIGHT
TZOFFSETFROM:+0100
TZOFFSETTO:+0200
TZNAME:CEST
DTSTART:20250330T010000
END:DAYLIGHT
BEGIN:STANDARD
TZOFFSETFROM:+0200
TZOFFSETTO:+0100
TZNAME:CET
DTSTART:20251026T010000
END:STANDARD
END:VTIMEZONE
BEGIN:VEVENT
DTSTART;VALUE=DATE:20240914
DTEND;VALUE=DATE:20240915
DTSTAMP:20260422T195033
CREATED:20231226T080045Z
LAST-MODIFIED:20240902T080845Z
UID:2830-1726272000-1726358399@www.nfps.nl
SUMMARY:Nationale Fell Pony merrie- veulen- en ruinenkeuring
DESCRIPTION:De merrie-\, veulen- en ruinenkeuring van 2024 vindt plaats op zaterdag 14 september bij: Manege de Bullen Enk (LR Hulshorst en PC De Bosrakkers)\, Brandsweg 1\, 8077 SK in Hulshorst. \nHet dagprogramma vindt u HIER.
URL:https://www.nfps.nl/event/nationale-fell-pony-merrie-veulen-en-ruinenkeuring/
LOCATION:LR Hulshorst en PC De Bosrakkers\, Manege de Bullen Enk\, Brandsweg 1\, Hulshorst\, Gelderland\, 8077 SK\, Nederland
CATEGORIES:Keuring
END:VEVENT
END:VCALENDAR